BEGIN:VCALENDAR
VERSION:2.0
PRODID:-//New Bethelehem Baptist Church - ECPv6.0.10//NONSGML v1.0//EN
CALSCALE:GREGORIAN
METHOD:PUBLISH
X-WR-CALNAME:New Bethelehem Baptist Church
X-ORIGINAL-URL:https://www.nbbc.info
X-WR-CALDESC:Events for New Bethelehem Baptist Church
REFRESH-INTERVAL;VALUE=DURATION:PT1H
X-Robots-Tag:noindex
X-PUBLISHED-TTL:PT1H
BEGIN:VTIMEZONE
TZID:America/Chicago
BEGIN:DAYLIGHT
TZOFFSETFROM:-0600
TZOFFSETTO:-0500
TZNAME:CDT
DTSTART:20210314T080000
END:DAYLIGHT
BEGIN:STANDARD
TZOFFSETFROM:-0500
TZOFFSETTO:-0600
TZNAME:CST
DTSTART:20211107T070000
END:STANDARD
BEGIN:DAYLIGHT
TZOFFSETFROM:-0600
TZOFFSETTO:-0500
TZNAME:CDT
DTSTART:20220313T080000
END:DAYLIGHT
BEGIN:STANDARD
TZOFFSETFROM:-0500
TZOFFSETTO:-0600
TZNAME:CST
DTSTART:20221106T070000
END:STANDARD
BEGIN:DAYLIGHT
TZOFFSETFROM:-0600
TZOFFSETTO:-0500
TZNAME:CDT
DTSTART:20230312T080000
END:DAYLIGHT
BEGIN:STANDARD
TZOFFSETFROM:-0500
TZOFFSETTO:-0600
TZNAME:CST
DTSTART:20231105T070000
END:STANDARD
END:VTIMEZONE
BEGIN:VEVENT
DTSTART;VALUE=DATE:20230407
DTEND;VALUE=DATE:20230408
DTSTAMP:20260424T064940
CREATED:20230301T211008Z
LAST-MODIFIED:20230301T211008Z
UID:4427-1680825600-1680911999@www.nbbc.info
SUMMARY:"Seven Sayings of Jesus Christ on The Cross"
DESCRIPTION:
URL:https://www.nbbc.info/event/seven-sayings-of-jesus-christ-on-the-cross/
LOCATION:NBBC\, 1730 11th Ave N\, Bessemer\, AL\, 35020\, United States
END:VEVENT
BEGIN:VEVENT
DTSTART;VALUE=DATE:20230325
DTEND;VALUE=DATE:20230327
DTSTAMP:20260424T064940
CREATED:20230301T211325Z
LAST-MODIFIED:20230301T211611Z
UID:4430-1679702400-1679875199@www.nbbc.info
SUMMARY:122nd Church Anniversary
DESCRIPTION:
URL:https://www.nbbc.info/event/122nd-church-anniversary/
LOCATION:NBBC\, 1730 11th Ave N\, Bessemer\, AL\, 35020\, United States
END:VEVENT
BEGIN:VEVENT
DTSTART;VALUE=DATE:20230306
DTEND;VALUE=DATE:20230307
DTSTAMP:20260424T064940
CREATED:20230301T211517Z
LAST-MODIFIED:20230301T211517Z
UID:4433-1678060800-1678147199@www.nbbc.info
SUMMARY:College Fair
DESCRIPTION:
URL:https://www.nbbc.info/event/college-fair/
LOCATION:NBBC\, 1730 11th Ave N\, Bessemer\, AL\, 35020\, United States
END:VEVENT
BEGIN:VEVENT
DTSTART;TZID=America/Chicago:20211128T092000
DTEND;TZID=America/Chicago:20211128T102000
DTSTAMP:20260424T064940
CREATED:20211104T232029Z
LAST-MODIFIED:20211104T232128Z
UID:4114-1638091200-1638094800@www.nbbc.info
SUMMARY:Sunday School  ( FLC )
DESCRIPTION:
URL:https://www.nbbc.info/event/sunday-school-flc-920-am-1020-am-4/
LOCATION:NBBC\, 1730 11th Ave N\, Bessemer\, AL\, 35020\, United States
END:VEVENT
BEGIN:VEVENT
DTSTART;TZID=America/Chicago:20211127T100000
DTEND;TZID=America/Chicago:20211127T120000
DTSTAMP:20260424T064940
CREATED:20211104T234557Z
LAST-MODIFIED:20211104T234557Z
UID:4131-1638007200-1638014400@www.nbbc.info
SUMMARY:Women\, Daughter\, Girls of Promise Bible Study ( FLC )
DESCRIPTION:
URL:https://www.nbbc.info/event/women-daughter-girls-of-promise-bible-study-flc/
LOCATION:NBBC\, 1730 11th Ave N\, Bessemer\, AL\, 35020\, United States
END:VEVENT
BEGIN:VEVENT
DTSTART;TZID=America/Chicago:20211125T090000
DTEND;TZID=America/Chicago:20211125T120000
DTSTAMP:20260424T064940
CREATED:20211104T234225Z
LAST-MODIFIED:20211104T234225Z
UID:4128-1637830800-1637841600@www.nbbc.info
SUMMARY:Thanksgiving Day Service
DESCRIPTION:
URL:https://www.nbbc.info/event/thanksgiving-day-service/
LOCATION:NBBC\, 1730 11th Ave N\, Bessemer\, AL\, 35020\, United States
END:VEVENT
BEGIN:VEVENT
DTSTART;TZID=America/Chicago:20211121T092000
DTEND;TZID=America/Chicago:20211121T102000
DTSTAMP:20260424T064940
CREATED:20211104T232007Z
LAST-MODIFIED:20211104T232241Z
UID:4112-1637486400-1637490000@www.nbbc.info
SUMMARY:Sunday School  ( FLC )
DESCRIPTION:
URL:https://www.nbbc.info/event/sunday-school-flc-920-am-1020-am-3/
LOCATION:NBBC\, 1730 11th Ave N\, Bessemer\, AL\, 35020\, United States
END:VEVENT
BEGIN:VEVENT
DTSTART;TZID=America/Chicago:20211115T140000
DTEND;TZID=America/Chicago:20211115T170000
DTSTAMP:20260424T064940
CREATED:20211104T233627Z
LAST-MODIFIED:20211104T233627Z
UID:4122-1636984800-1636995600@www.nbbc.info
SUMMARY:FMS Pharmacy Combination Clinic  ( Walk-Ins ) Family Life Center  ( Tentative )
DESCRIPTION:Booster Shots for Pfizer\, Morderna\, J & J Vaccines\nFlu Shots\nPfizer vaccine for children ages  5 – 11
URL:https://www.nbbc.info/event/fms-pharmacy-combination-clinic-walk-ins-family-life-center-tentative/
LOCATION:NBBC\, 1730 11th Ave N\, Bessemer\, AL\, 35020\, United States
END:VEVENT
BEGIN:VEVENT
DTSTART;TZID=America/Chicago:20211114T092000
DTEND;TZID=America/Chicago:20211114T102000
DTSTAMP:20260424T064940
CREATED:20211104T231945Z
LAST-MODIFIED:20211104T232254Z
UID:4110-1636881600-1636885200@www.nbbc.info
SUMMARY:Sunday School  ( FLC )
DESCRIPTION:
URL:https://www.nbbc.info/event/sunday-school-flc-920-am-1020-am-2/
LOCATION:NBBC\, 1730 11th Ave N\, Bessemer\, AL\, 35020\, United States
END:VEVENT
BEGIN:VEVENT
DTSTART;TZID=America/Chicago:20211113T170000
DTEND;TZID=America/Chicago:20211113T193000
DTSTAMP:20260424T064940
CREATED:20211104T234026Z
LAST-MODIFIED:20211104T234026Z
UID:4126-1636822800-1636831800@www.nbbc.info
SUMMARY:Marriage Ministry ( FLC )
DESCRIPTION:
URL:https://www.nbbc.info/event/marriage-ministry-flc/
LOCATION:NBBC\, 1730 11th Ave N\, Bessemer\, AL\, 35020\, United States
END:VEVENT
BEGIN:VEVENT
DTSTART;VALUE=DATE:20211111
DTEND;VALUE=DATE:20211112
DTSTAMP:20260424T064940
CREATED:20211104T233753Z
LAST-MODIFIED:20211104T233753Z
UID:4124-1636588800-1636675199@www.nbbc.info
SUMMARY:Veterans Day
DESCRIPTION:Church Office Closed
URL:https://www.nbbc.info/event/veterans-day/
END:VEVENT
BEGIN:VEVENT
DTSTART;TZID=America/Chicago:20211109T140000
DTEND;TZID=America/Chicago:20211109T170000
DTSTAMP:20260424T064940
CREATED:20211104T233501Z
LAST-MODIFIED:20211104T233501Z
UID:4120-1636466400-1636477200@www.nbbc.info
SUMMARY:FMS Pharmacy Combination Clinic  ( Walk-Ins ) Family Life Center
DESCRIPTION:Booster Shots for Pfizer\, Morderna\, J & J Vaccines\nFlu Shots\nPfizer vaccine for children ages  5 – 11
URL:https://www.nbbc.info/event/fms-pharmacy-combination-clinic-walk-ins-family-life-center/
LOCATION:NBBC\, 1730 11th Ave N\, Bessemer\, AL\, 35020\, United States
END:VEVENT
BEGIN:VEVENT
DTSTART;TZID=America/Chicago:20211107T092000
DTEND;TZID=America/Chicago:20211107T102000
DTSTAMP:20260424T064940
CREATED:20211104T231909Z
LAST-MODIFIED:20211104T232305Z
UID:4107-1636276800-1636280400@www.nbbc.info
SUMMARY:Sunday School  ( FLC )
DESCRIPTION:
URL:https://www.nbbc.info/event/sunday-school-flc-920-am-1020-am/
LOCATION:NBBC\, 1730 11th Ave N\, Bessemer\, AL\, 35020\, United States
END:VEVENT
BEGIN:VEVENT
DTSTART;VALUE=DATE:20211107
DTEND;VALUE=DATE:20211108
DTSTAMP:20260424T064940
CREATED:20211104T231123Z
LAST-MODIFIED:20211104T231123Z
UID:4105-1636243200-1636329599@www.nbbc.info
SUMMARY:Daylight Savings Time
DESCRIPTION:
URL:https://www.nbbc.info/event/daylight-savings-time/
END:VEVENT
BEGIN:VEVENT
DTSTART;VALUE=DATE:20210821
DTEND;VALUE=DATE:20210822
DTSTAMP:20260424T064940
CREATED:20210625T023005Z
LAST-MODIFIED:20210625T023039Z
UID:3902-1629504000-1629590399@www.nbbc.info
SUMMARY:Senior  Citizen Luncheon
DESCRIPTION:Family Life Center
URL:https://www.nbbc.info/event/senior-citizen-luncheon/
LOCATION:NBBC\, 1730 11th Ave N\, Bessemer\, AL\, 35020\, United States
END:VEVENT
BEGIN:VEVENT
DTSTART;VALUE=DATE:20210807
DTEND;VALUE=DATE:20210808
DTSTAMP:20260424T064940
CREATED:20210625T022720Z
LAST-MODIFIED:20210625T022720Z
UID:3900-1628294400-1628380799@www.nbbc.info
SUMMARY:Caring Men & Caring Women Program
DESCRIPTION:Back to School Supply Drive \nFMS Pharmacy – Covid Vaccine \nFamily Life Center
URL:https://www.nbbc.info/event/caring-men-caring-women-program/
END:VEVENT
BEGIN:VEVENT
DTSTART;TZID=America/Chicago:20210805T190000
DTEND;TZID=America/Chicago:20210805T190000
DTSTAMP:20260424T064940
CREATED:20210625T021931Z
LAST-MODIFIED:20210625T024458Z
UID:3898-1628190000-1628190000@www.nbbc.info
SUMMARY:Revival
DESCRIPTION:Guest Speaker: Rev Gregory Oliver ( Shreveport LA )
URL:https://www.nbbc.info/event/revival-3/
LOCATION:NBBC\, 1730 11th Ave N\, Bessemer\, AL\, 35020\, United States
END:VEVENT
BEGIN:VEVENT
DTSTART;TZID=America/Chicago:20210804T190000
DTEND;TZID=America/Chicago:20210804T190000
DTSTAMP:20260424T064940
CREATED:20210625T021911Z
LAST-MODIFIED:20210625T024533Z
UID:3896-1628103600-1628103600@www.nbbc.info
SUMMARY:Revival
DESCRIPTION:Guest Speaker: Rev Gregory Oliver ( Shreveport LA )
URL:https://www.nbbc.info/event/revival-2/
LOCATION:NBBC\, 1730 11th Ave N\, Bessemer\, AL\, 35020\, United States
END:VEVENT
BEGIN:VEVENT
DTSTART;TZID=America/Chicago:20210803T190000
DTEND;TZID=America/Chicago:20210803T190000
DTSTAMP:20260424T064940
CREATED:20210625T021851Z
LAST-MODIFIED:20210625T024613Z
UID:3894-1628017200-1628017200@www.nbbc.info
SUMMARY:Revival
DESCRIPTION:Guest Speaker: Rev Gregory Oliver ( Shreveport LA )
URL:https://www.nbbc.info/event/revival/
LOCATION:NBBC\, 1730 11th Ave N\, Bessemer\, AL\, 35020\, United States
END:VEVENT
BEGIN:VEVENT
DTSTART;TZID=America/Chicago:20210714T180000
DTEND;TZID=America/Chicago:20210714T193000
DTSTAMP:20260424T064940
CREATED:20210625T021340Z
LAST-MODIFIED:20210625T024903Z
UID:3892-1626285600-1626291000@www.nbbc.info
SUMMARY:Vacation Bible School
DESCRIPTION:
URL:https://www.nbbc.info/event/vacation-bible-school-3/
LOCATION:NBBC\, 1730 11th Ave N\, Bessemer\, AL\, 35020\, United States
END:VEVENT
BEGIN:VEVENT
DTSTART;TZID=America/Chicago:20210713T180000
DTEND;TZID=America/Chicago:20210713T193000
DTSTAMP:20260424T064940
CREATED:20210625T021320Z
LAST-MODIFIED:20210625T024932Z
UID:3890-1626199200-1626204600@www.nbbc.info
SUMMARY:Vacation Bible School
DESCRIPTION:
URL:https://www.nbbc.info/event/vacation-bible-school-2/
LOCATION:NBBC\, 1730 11th Ave N\, Bessemer\, AL\, 35020\, United States
END:VEVENT
BEGIN:VEVENT
DTSTART;TZID=America/Chicago:20210712T180000
DTEND;TZID=America/Chicago:20210712T193000
DTSTAMP:20260424T064940
CREATED:20210625T021255Z
LAST-MODIFIED:20210625T024958Z
UID:3888-1626112800-1626118200@www.nbbc.info
SUMMARY:Vacation Bible School
DESCRIPTION:
URL:https://www.nbbc.info/event/vacation-bible-school/
LOCATION:NBBC\, 1730 11th Ave N\, Bessemer\, AL\, 35020\, United States
END:VEVENT
BEGIN:VEVENT
DTSTART;VALUE=DATE:20210711
DTEND;VALUE=DATE:20210712
DTSTAMP:20260424T064940
CREATED:20210625T020744Z
LAST-MODIFIED:20210625T020755Z
UID:3885-1625961600-1626047999@www.nbbc.info
SUMMARY:Youth Day
DESCRIPTION:8 am / 10:30 am Service
URL:https://www.nbbc.info/event/youth-day/
LOCATION:NBBC\, 1730 11th Ave N\, Bessemer\, AL\, 35020\, United States
END:VEVENT
BEGIN:VEVENT
DTSTART;TZID=America/Chicago:20210710T170000
DTEND;TZID=America/Chicago:20210710T170000
DTSTAMP:20260424T064940
CREATED:20210625T020519Z
LAST-MODIFIED:20210625T020538Z
UID:3883-1625936400-1625936400@www.nbbc.info
SUMMARY:Marriage Ministry
DESCRIPTION:Family Life Center
URL:https://www.nbbc.info/event/marriage-ministry/
LOCATION:NBBC\, 1730 11th Ave N\, Bessemer\, AL\, 35020\, United States
ATTACH;FMTTYPE=image/jpeg:https://www.nbbc.info/wp/wp-content/uploads/2021/05/2become1.jpeg
END:VEVENT
BEGIN:VEVENT
DTSTART;TZID=America/Chicago:20210709T170000
DTEND;TZID=America/Chicago:20210709T210000
DTSTAMP:20260424T064940
CREATED:20210625T020315Z
LAST-MODIFIED:20210625T020315Z
UID:3881-1625850000-1625864400@www.nbbc.info
SUMMARY:Youth Fellowship
DESCRIPTION:
URL:https://www.nbbc.info/event/youth-fellowship/
LOCATION:NBBC\, 1730 11th Ave N\, Bessemer\, AL\, 35020\, United States
ATTACH;FMTTYPE=image/jpeg:https://www.nbbc.info/wp/wp-content/uploads/2020/11/SS_class.jpg
END:VEVENT
BEGIN:VEVENT
DTSTART;TZID=America/Chicago:20210704T103000
DTEND;TZID=America/Chicago:20210704T103000
DTSTAMP:20260424T064940
CREATED:20210625T020011Z
LAST-MODIFIED:20210625T020011Z
UID:3879-1625394600-1625394600@www.nbbc.info
SUMMARY:Worship Service
DESCRIPTION:
URL:https://www.nbbc.info/event/worship-service/
LOCATION:NBBC\, 1730 11th Ave N\, Bessemer\, AL\, 35020\, United States
ATTACH;FMTTYPE=image/jpeg:https://www.nbbc.info/wp/wp-content/uploads/2021/06/20210402152808256.jpg
END:VEVENT
BEGIN:VEVENT
DTSTART;TZID=America/Chicago:20210629T180000
DTEND;TZID=America/Chicago:20210629T190000
DTSTAMP:20260424T064940
CREATED:20210622T012351Z
LAST-MODIFIED:20210622T012351Z
UID:3782-1624989600-1624993200@www.nbbc.info
SUMMARY:Bible Study
DESCRIPTION:
URL:https://www.nbbc.info/event/bible-study-6/
LOCATION:NBBC\, 1730 11th Ave N\, Bessemer\, AL\, 35020\, United States
ATTACH;FMTTYPE=image/jpeg:https://www.nbbc.info/wp/wp-content/uploads/2020/11/Bible-open.jpg
END:VEVENT
BEGIN:VEVENT
DTSTART;TZID=America/Chicago:20210626T100000
DTEND;TZID=America/Chicago:20210626T100000
DTSTAMP:20260424T064940
CREATED:20210625T015810Z
LAST-MODIFIED:20210625T025140Z
UID:3877-1624701600-1624701600@www.nbbc.info
SUMMARY:Lady Rogers Women's Bible Study
DESCRIPTION:Family Life Center
URL:https://www.nbbc.info/event/lady-rogers-womens-bible-study/
LOCATION:NBBC\, 1730 11th Ave N\, Bessemer\, AL\, 35020\, United States
END:VEVENT
BEGIN:VEVENT
DTSTART;TZID=America/Chicago:20210622T180000
DTEND;TZID=America/Chicago:20210622T190000
DTSTAMP:20260424T064940
CREATED:20210622T012316Z
LAST-MODIFIED:20210622T012316Z
UID:3780-1624384800-1624388400@www.nbbc.info
SUMMARY:Bible Study
DESCRIPTION:
URL:https://www.nbbc.info/event/bible-study-5/
LOCATION:NBBC\, 1730 11th Ave N\, Bessemer\, AL\, 35020\, United States
ATTACH;FMTTYPE=image/jpeg:https://www.nbbc.info/wp/wp-content/uploads/2020/11/Bible-open.jpg
END:VEVENT
BEGIN:VEVENT
DTSTART;VALUE=DATE:20210619
DTEND;VALUE=DATE:20210620
DTSTAMP:20260424T064940
CREATED:20210609T195823Z
LAST-MODIFIED:20210612T063005Z
UID:3625-1624060800-1624147199@www.nbbc.info
SUMMARY:Father's Day Breakfast
DESCRIPTION:
URL:https://www.nbbc.info/event/fathers-day-breakfast/
LOCATION:NBBC\, 1730 11th Ave N\, Bessemer\, AL\, 35020\, United States
ATTACH;FMTTYPE=image/jpeg:https://www.nbbc.info/wp/wp-content/uploads/2021/06/FATHERS-DAY-BREAKFAST-2021.jpg
END:VEVENT
END:VCALENDAR