BEGIN:VCALENDAR
VERSION:2.0
PRODID:-//New Bethelehem Baptist Church - ECPv6.0.10//NONSGML v1.0//EN
CALSCALE:GREGORIAN
METHOD:PUBLISH
X-WR-CALNAME:New Bethelehem Baptist Church
X-ORIGINAL-URL:https://www.nbbc.info
X-WR-CALDESC:Events for New Bethelehem Baptist Church
REFRESH-INTERVAL;VALUE=DURATION:PT1H
X-Robots-Tag:noindex
X-PUBLISHED-TTL:PT1H
BEGIN:VTIMEZONE
TZID:America/Chicago
BEGIN:DAYLIGHT
TZOFFSETFROM:-0600
TZOFFSETTO:-0500
TZNAME:CDT
DTSTART:20200308T080000
END:DAYLIGHT
BEGIN:STANDARD
TZOFFSETFROM:-0500
TZOFFSETTO:-0600
TZNAME:CST
DTSTART:20201101T070000
END:STANDARD
BEGIN:DAYLIGHT
TZOFFSETFROM:-0600
TZOFFSETTO:-0500
TZNAME:CDT
DTSTART:20210314T080000
END:DAYLIGHT
BEGIN:STANDARD
TZOFFSETFROM:-0500
TZOFFSETTO:-0600
TZNAME:CST
DTSTART:20211107T070000
END:STANDARD
END:VTIMEZONE
BEGIN:VEVENT
DTSTART;TZID=America/Chicago:20210209T180000
DTEND;TZID=America/Chicago:20210209T190000
DTSTAMP:20260424T165941
CREATED:20210207T165641Z
LAST-MODIFIED:20210207T165641Z
UID:3400-1612893600-1612897200@www.nbbc.info
SUMMARY:Bible Study
DESCRIPTION:
URL:https://www.nbbc.info/event/bible-study/
LOCATION:internet\, 1730 11th ave North\, Bessemer\, AL\, 35020\, United States
END:VEVENT
BEGIN:VEVENT
DTSTART;VALUE=DATE:20201225
DTEND;VALUE=DATE:20201226
DTSTAMP:20260424T165941
CREATED:20201218T011605Z
LAST-MODIFIED:20201218T011646Z
UID:2150-1608854400-1608940799@www.nbbc.info
SUMMARY:Christmas Day Service
DESCRIPTION:Christmas Services will be online and replayed 4 times
URL:https://www.nbbc.info/event/christmas-day-service/
LOCATION:Internet\, 1730 11th ave North\, Bessemer\, AL\, 35020\, United States
END:VEVENT
END:VCALENDAR